BEGIN:VCALENDAR
VERSION:2.0
PRODID:-//FRP2i - ECPv6.15.20//NONSGML v1.0//EN
CALSCALE:GREGORIAN
METHOD:PUBLISH
X-WR-CALNAME:FRP2i
X-ORIGINAL-URL:https://www.frp2i.fr
X-WR-CALDESC:Évènements pour FRP2i
REFRESH-INTERVAL;VALUE=DURATION:PT1H
X-Robots-Tag:noindex
X-PUBLISHED-TTL:PT1H
BEGIN:VTIMEZONE
TZID:Europe/Paris
BEGIN:DAYLIGHT
TZOFFSETFROM:+0100
TZOFFSETTO:+0200
TZNAME:CEST
DTSTART:20250330T010000
END:DAYLIGHT
BEGIN:STANDARD
TZOFFSETFROM:+0200
TZOFFSETTO:+0100
TZNAME:CET
DTSTART:20251026T010000
END:STANDARD
BEGIN:DAYLIGHT
TZOFFSETFROM:+0100
TZOFFSETTO:+0200
TZNAME:CEST
DTSTART:20260329T010000
END:DAYLIGHT
BEGIN:STANDARD
TZOFFSETFROM:+0200
TZOFFSETTO:+0100
TZNAME:CET
DTSTART:20261025T010000
END:STANDARD
BEGIN:DAYLIGHT
TZOFFSETFROM:+0100
TZOFFSETTO:+0200
TZNAME:CEST
DTSTART:20270328T010000
END:DAYLIGHT
BEGIN:STANDARD
TZOFFSETFROM:+0200
TZOFFSETTO:+0100
TZNAME:CET
DTSTART:20271031T010000
END:STANDARD
END:VTIMEZONE
BEGIN:VEVENT
DTSTART;TZID=Europe/Paris:20260305T080000
DTEND;TZID=Europe/Paris:20260305T170000
DTSTAMP:20260422T162100
CREATED:20260302T093356Z
LAST-MODIFIED:20260302T130315Z
UID:406673-1772697600-1772730000@www.frp2i.fr
SUMMARY:Réunion publique - Le C.A. à votre écoute - le jeudi 5 mars 2026 12h30-14h00
DESCRIPTION:You must be Connecté to view the content.
URL:https://www.frp2i.fr/event/reunion-publique-le-c-a-a-votre-ecoute-le-jeudi-5-mars-2026-12h30-14h00/
CATEGORIES:Réunion
ATTACH;FMTTYPE=image/jpeg:https://www.frp2i.fr/wp-content/uploads/2025/02/appel-a-candidatures.jpg
END:VEVENT
BEGIN:VEVENT
DTSTART;TZID=Europe/Paris:20260311T083000
DTEND;TZID=Europe/Paris:20260311T123000
DTSTAMP:20260422T162100
CREATED:20260302T092056Z
LAST-MODIFIED:20260302T092056Z
UID:406668-1773217800-1773232200@www.frp2i.fr
SUMMARY:ALSO Tech Experience 2026
DESCRIPTION:You must be Connecté to view the content.
URL:https://www.frp2i.fr/event/also-tech-experience-2026/
LOCATION:La Chapelle Saint Martin –  33 Saint Martin du Fault 87510\, Nieul France\, 33 Saint Martin du Fault\, Nieul\, 87510\, France
CATEGORIES:Salon
ATTACH;FMTTYPE=image/png:https://www.frp2i.fr/wp-content/uploads/2026/03/also.png
END:VEVENT
END:VCALENDAR