BEGIN:VCALENDAR
VERSION:2.0
PRODID:-//FRP2i - ECPv6.15.20//NONSGML v1.0//EN
CALSCALE:GREGORIAN
METHOD:PUBLISH
X-ORIGINAL-URL:https://www.frp2i.fr
X-WR-CALDESC:Évènements pour FRP2i
REFRESH-INTERVAL;VALUE=DURATION:PT1H
X-Robots-Tag:noindex
X-PUBLISHED-TTL:PT1H
BEGIN:VTIMEZONE
TZID:Europe/Paris
BEGIN:DAYLIGHT
TZOFFSETFROM:+0100
TZOFFSETTO:+0200
TZNAME:CEST
DTSTART:20250330T010000
END:DAYLIGHT
BEGIN:STANDARD
TZOFFSETFROM:+0200
TZOFFSETTO:+0100
TZNAME:CET
DTSTART:20251026T010000
END:STANDARD
BEGIN:DAYLIGHT
TZOFFSETFROM:+0100
TZOFFSETTO:+0200
TZNAME:CEST
DTSTART:20260329T010000
END:DAYLIGHT
BEGIN:STANDARD
TZOFFSETFROM:+0200
TZOFFSETTO:+0100
TZNAME:CET
DTSTART:20261025T010000
END:STANDARD
BEGIN:DAYLIGHT
TZOFFSETFROM:+0100
TZOFFSETTO:+0200
TZNAME:CEST
DTSTART:20270328T010000
END:DAYLIGHT
BEGIN:STANDARD
TZOFFSETFROM:+0200
TZOFFSETTO:+0100
TZNAME:CET
DTSTART:20271031T010000
END:STANDARD
END:VTIMEZONE
BEGIN:VEVENT
DTSTART;TZID=Europe/Paris:20260212T093000
DTEND;TZID=Europe/Paris:20260212T110000
DTSTAMP:20260422T180657
CREATED:20260127T171925Z
LAST-MODIFIED:20260130T085247Z
UID:406553-1770888600-1770894000@www.frp2i.fr
SUMMARY:Formation technique certifiante en ligne ESET Niveau 3
DESCRIPTION:You must be Connecté to view the content.
URL:https://www.frp2i.fr/event/formation-technique-certifiante-en-ligne-eset-niveau-3/
CATEGORIES:Formation
ATTACH;FMTTYPE=image/png:https://www.frp2i.fr/wp-content/uploads/2025/11/Formation-certifiante.png
END:VEVENT
BEGIN:VEVENT
DTSTART;TZID=Europe/Paris:20260217T120000
DTEND;TZID=Europe/Paris:20260217T130000
DTSTAMP:20260422T180657
CREATED:20260202T105030Z
LAST-MODIFIED:20260202T105030Z
UID:406574-1771329600-1771333200@www.frp2i.fr
SUMMARY:Assemblée Générale Extraordinaire 17/02/2026
DESCRIPTION:You must be Connecté to view the content.
URL:https://www.frp2i.fr/event/assemblee-generale-extraordinaire-17-02-2026/
CATEGORIES:Evènement FRP2i,Assemblée Générale Extraordinaire
END:VEVENT
END:VCALENDAR