BEGIN:VCALENDAR
VERSION:2.0
PRODID:-//FRP2i - ECPv6.15.20//NONSGML v1.0//EN
CALSCALE:GREGORIAN
METHOD:PUBLISH
X-ORIGINAL-URL:https://www.frp2i.fr
X-WR-CALDESC:Évènements pour FRP2i
REFRESH-INTERVAL;VALUE=DURATION:PT1H
X-Robots-Tag:noindex
X-PUBLISHED-TTL:PT1H
BEGIN:VTIMEZONE
TZID:Europe/Paris
BEGIN:DAYLIGHT
TZOFFSETFROM:+0100
TZOFFSETTO:+0200
TZNAME:CEST
DTSTART:20240331T010000
END:DAYLIGHT
BEGIN:STANDARD
TZOFFSETFROM:+0200
TZOFFSETTO:+0100
TZNAME:CET
DTSTART:20241027T010000
END:STANDARD
BEGIN:DAYLIGHT
TZOFFSETFROM:+0100
TZOFFSETTO:+0200
TZNAME:CEST
DTSTART:20250330T010000
END:DAYLIGHT
BEGIN:STANDARD
TZOFFSETFROM:+0200
TZOFFSETTO:+0100
TZNAME:CET
DTSTART:20251026T010000
END:STANDARD
BEGIN:DAYLIGHT
TZOFFSETFROM:+0100
TZOFFSETTO:+0200
TZNAME:CEST
DTSTART:20260329T010000
END:DAYLIGHT
BEGIN:STANDARD
TZOFFSETFROM:+0200
TZOFFSETTO:+0100
TZNAME:CET
DTSTART:20261025T010000
END:STANDARD
END:VTIMEZONE
BEGIN:VEVENT
DTSTART;TZID=Europe/Paris:20250919T120000
DTEND;TZID=Europe/Paris:20250919T170000
DTSTAMP:20260423T035327
CREATED:20250915T132553Z
LAST-MODIFIED:20250918T093304Z
UID:405881-1758283200-1758301200@www.frp2i.fr
SUMMARY:JOTELULU - Webinaire nouveau Partenaire
DESCRIPTION:You must be Connecté to view the content.
URL:https://www.frp2i.fr/event/jotelulu-webinaire-nouveau-partenaire/
CATEGORIES:Webinaire
ATTACH;FMTTYPE=image/png:https://www.frp2i.fr/wp-content/uploads/2025/09/1024x512_LOGO_JOTELULU_horizontal_tcm19-107038.png
END:VEVENT
BEGIN:VEVENT
DTSTART;TZID=Europe/Paris:20250922T080000
DTEND;TZID=Europe/Paris:20250926T170000
DTSTAMP:20260423T035327
CREATED:20250509T083806Z
LAST-MODIFIED:20250509T083806Z
UID:405323-1758528000-1758906000@www.frp2i.fr
SUMMARY:TERRA: Windows Serveur 2022  en TPE et PME
DESCRIPTION:You must be Connecté to view the content.
URL:https://www.frp2i.fr/event/terra-windows-serveur-2022-en-tpe-et-pme-2/
LOCATION:TERRA COMPUTER\, 19\, rue du Commerce\, Vendenheim\, 67550\, France
CATEGORIES:Formation
ATTACH;FMTTYPE=image/jpeg:https://www.frp2i.fr/wp-content/uploads/2019/04/logos-terra.jpg
END:VEVENT
BEGIN:VEVENT
DTSTART;TZID=Europe/Paris:20250924T123000
DTEND;TZID=Europe/Paris:20250924T140000
DTSTAMP:20260423T035327
CREATED:20250916T160758Z
LAST-MODIFIED:20250922T135256Z
UID:405886-1758717000-1758722400@www.frp2i.fr
SUMMARY:Terra Cloud - spécial FRP2i
DESCRIPTION:You must be Connecté to view the content.
URL:https://www.frp2i.fr/event/terra-cloud-special-frp2i/
CATEGORIES:Webinaire
ATTACH;FMTTYPE=image/jpeg:https://www.frp2i.fr/wp-content/uploads/2024/11/terra-cloud.jpg
END:VEVENT
BEGIN:VEVENT
DTSTART;TZID=Europe/Paris:20250929T090000
DTEND;TZID=Europe/Paris:20251001T163000
DTSTAMP:20260423T035327
CREATED:20250509T090945Z
LAST-MODIFIED:20250509T090945Z
UID:405337-1759136400-1759336200@www.frp2i.fr
SUMMARY:TERRA: Windows Serveur - Les services réseaux DNS et DHCP
DESCRIPTION:You must be Connecté to view the content.
URL:https://www.frp2i.fr/event/terra-windows-serveur-les-services-reseaux-dns-et-dhcp/
LOCATION:TERRA COMPUTER\, 19\, rue du Commerce\, Vendenheim\, 67550\, France
CATEGORIES:Formation
END:VEVENT
BEGIN:VEVENT
DTSTART;TZID=Europe/Paris:20250930T130000
DTEND;TZID=Europe/Paris:20250930T140000
DTSTAMP:20260423T035327
CREATED:20250922T133848Z
LAST-MODIFIED:20250922T143856Z
UID:405928-1759237200-1759240800@www.frp2i.fr
SUMMARY:La Facturation Électronique - [M1]
DESCRIPTION:You must be Connecté to view the content.
URL:https://www.frp2i.fr/event/la-facturation-electronique-m1/
CATEGORIES:Webinaire
ATTACH;FMTTYPE=image/png:https://www.frp2i.fr/wp-content/uploads/2025/09/Seance-de-formation-professionnelle-webinaire-by-ip-fd-gris-1.png
END:VEVENT
END:VCALENDAR