BEGIN:VCALENDAR
VERSION:2.0
PRODID:-//FRP2i - ECPv6.15.20//NONSGML v1.0//EN
CALSCALE:GREGORIAN
METHOD:PUBLISH
X-ORIGINAL-URL:https://www.frp2i.fr
X-WR-CALDESC:Évènements pour FRP2i
REFRESH-INTERVAL;VALUE=DURATION:PT1H
X-Robots-Tag:noindex
X-PUBLISHED-TTL:PT1H
BEGIN:VTIMEZONE
TZID:Europe/Paris
BEGIN:DAYLIGHT
TZOFFSETFROM:+0100
TZOFFSETTO:+0200
TZNAME:CEST
DTSTART:20240331T010000
END:DAYLIGHT
BEGIN:STANDARD
TZOFFSETFROM:+0200
TZOFFSETTO:+0100
TZNAME:CET
DTSTART:20241027T010000
END:STANDARD
BEGIN:DAYLIGHT
TZOFFSETFROM:+0100
TZOFFSETTO:+0200
TZNAME:CEST
DTSTART:20250330T010000
END:DAYLIGHT
BEGIN:STANDARD
TZOFFSETFROM:+0200
TZOFFSETTO:+0100
TZNAME:CET
DTSTART:20251026T010000
END:STANDARD
BEGIN:DAYLIGHT
TZOFFSETFROM:+0100
TZOFFSETTO:+0200
TZNAME:CEST
DTSTART:20260329T010000
END:DAYLIGHT
BEGIN:STANDARD
TZOFFSETFROM:+0200
TZOFFSETTO:+0100
TZNAME:CET
DTSTART:20261025T010000
END:STANDARD
END:VTIMEZONE
BEGIN:VEVENT
DTSTART;TZID=Europe/Paris:20250630T090000
DTEND;TZID=Europe/Paris:20250703T163000
DTSTAMP:20260423T075248
CREATED:20250509T090524Z
LAST-MODIFIED:20250509T090525Z
UID:405335-1751274000-1751560200@www.frp2i.fr
SUMMARY:TERRA: Microsoft 365 – OneDrive et Teams avec SharePoint et Exchange
DESCRIPTION:You must be Connecté to view the content.
URL:https://www.frp2i.fr/event/terra-microsoft-365-onedrive-et-teams-avec-sharepoint-et-exchange-3/
LOCATION:TERRA COMPUTER\, 19\, rue du Commerce\, Vendenheim\, 67550\, France
CATEGORIES:Formation
ATTACH;FMTTYPE=image/jpeg:https://www.frp2i.fr/wp-content/uploads/2019/04/logos-terra.jpg
END:VEVENT
END:VCALENDAR