BEGIN:VCALENDAR
VERSION:2.0
PRODID:-//FRP2i - ECPv6.15.20//NONSGML v1.0//EN
CALSCALE:GREGORIAN
METHOD:PUBLISH
X-ORIGINAL-URL:https://www.frp2i.fr
X-WR-CALDESC:Évènements pour FRP2i
REFRESH-INTERVAL;VALUE=DURATION:PT1H
X-Robots-Tag:noindex
X-PUBLISHED-TTL:PT1H
BEGIN:VTIMEZONE
TZID:Europe/Paris
BEGIN:DAYLIGHT
TZOFFSETFROM:+0100
TZOFFSETTO:+0200
TZNAME:CEST
DTSTART:20240331T010000
END:DAYLIGHT
BEGIN:STANDARD
TZOFFSETFROM:+0200
TZOFFSETTO:+0100
TZNAME:CET
DTSTART:20241027T010000
END:STANDARD
BEGIN:DAYLIGHT
TZOFFSETFROM:+0100
TZOFFSETTO:+0200
TZNAME:CEST
DTSTART:20250330T010000
END:DAYLIGHT
BEGIN:STANDARD
TZOFFSETFROM:+0200
TZOFFSETTO:+0100
TZNAME:CET
DTSTART:20251026T010000
END:STANDARD
BEGIN:DAYLIGHT
TZOFFSETFROM:+0100
TZOFFSETTO:+0200
TZNAME:CEST
DTSTART:20260329T010000
END:DAYLIGHT
BEGIN:STANDARD
TZOFFSETFROM:+0200
TZOFFSETTO:+0100
TZNAME:CET
DTSTART:20261025T010000
END:STANDARD
END:VTIMEZONE
BEGIN:VEVENT
DTSTART;TZID=Europe/Paris:20250612T093000
DTEND;TZID=Europe/Paris:20250612T113000
DTSTAMP:20260423T094152
CREATED:20250509T092424Z
LAST-MODIFIED:20250509T092424Z
UID:405339-1749720600-1749727800@www.frp2i.fr
SUMMARY:D-LINK: VoIP et la Vo-WiFi : Déploiement technique sur les réseaux filaires et sans-fil
DESCRIPTION:You must be Connecté to view the content.
URL:https://www.frp2i.fr/event/d-link-voip-et-la-vo-wifi-deploiement-technique-sur-les-reseaux-filaires-et-sans-fil/
CATEGORIES:Webinaire
ATTACH;FMTTYPE=image/jpeg:https://www.frp2i.fr/wp-content/uploads/2023/06/dlink_teal.jpg
END:VEVENT
BEGIN:VEVENT
DTSTART;TZID=Europe/Paris:20250623T080000
DTEND;TZID=Europe/Paris:20250623T170000
DTSTAMP:20260423T094152
CREATED:20250627T063009Z
LAST-MODIFIED:20250626T094518Z
UID:405509-1750665600-1750698000@www.frp2i.fr
SUMMARY:Réunion région Grand Est
DESCRIPTION:You must be Connecté to view the content.
URL:https://www.frp2i.fr/event/reunion-region-grand-est/
CATEGORIES:Réunion
ATTACH;FMTTYPE=image/png:https://www.frp2i.fr/wp-content/uploads/2022/07/FRP2i-logo-regions.png
END:VEVENT
BEGIN:VEVENT
DTSTART;TZID=Europe/Paris:20250623T090000
DTEND;TZID=Europe/Paris:20250626T163000
DTSTAMP:20260423T094152
CREATED:20250509T090340Z
LAST-MODIFIED:20250509T090341Z
UID:405333-1750669200-1750955400@www.frp2i.fr
SUMMARY:TERRA: Microsoft 365 – OneDrive et Teams avec SharePoint et Exchange
DESCRIPTION:You must be Connecté to view the content.
URL:https://www.frp2i.fr/event/terra-microsoft-365-onedrive-et-teams-avec-sharepoint-et-exchange-2/
LOCATION:TERRA COMPUTER\, 19\, rue du Commerce\, Vendenheim\, 67550\, France
CATEGORIES:Formation
ATTACH;FMTTYPE=image/jpeg:https://www.frp2i.fr/wp-content/uploads/2019/04/logos-terra.jpg
END:VEVENT
BEGIN:VEVENT
DTSTART;TZID=Europe/Paris:20250630T090000
DTEND;TZID=Europe/Paris:20250703T163000
DTSTAMP:20260423T094152
CREATED:20250509T090524Z
LAST-MODIFIED:20250509T090525Z
UID:405335-1751274000-1751560200@www.frp2i.fr
SUMMARY:TERRA: Microsoft 365 – OneDrive et Teams avec SharePoint et Exchange
DESCRIPTION:You must be Connecté to view the content.
URL:https://www.frp2i.fr/event/terra-microsoft-365-onedrive-et-teams-avec-sharepoint-et-exchange-3/
LOCATION:TERRA COMPUTER\, 19\, rue du Commerce\, Vendenheim\, 67550\, France
CATEGORIES:Formation
ATTACH;FMTTYPE=image/jpeg:https://www.frp2i.fr/wp-content/uploads/2019/04/logos-terra.jpg
END:VEVENT
END:VCALENDAR