BEGIN:VCALENDAR
VERSION:2.0
PRODID:-//FRP2i - ECPv6.15.20//NONSGML v1.0//EN
CALSCALE:GREGORIAN
METHOD:PUBLISH
X-ORIGINAL-URL:https://www.frp2i.fr
X-WR-CALDESC:Évènements pour FRP2i
REFRESH-INTERVAL;VALUE=DURATION:PT1H
X-Robots-Tag:noindex
X-PUBLISHED-TTL:PT1H
BEGIN:VTIMEZONE
TZID:Europe/Paris
BEGIN:DAYLIGHT
TZOFFSETFROM:+0100
TZOFFSETTO:+0200
TZNAME:CEST
DTSTART:20240331T010000
END:DAYLIGHT
BEGIN:STANDARD
TZOFFSETFROM:+0200
TZOFFSETTO:+0100
TZNAME:CET
DTSTART:20241027T010000
END:STANDARD
BEGIN:DAYLIGHT
TZOFFSETFROM:+0100
TZOFFSETTO:+0200
TZNAME:CEST
DTSTART:20250330T010000
END:DAYLIGHT
BEGIN:STANDARD
TZOFFSETFROM:+0200
TZOFFSETTO:+0100
TZNAME:CET
DTSTART:20251026T010000
END:STANDARD
BEGIN:DAYLIGHT
TZOFFSETFROM:+0100
TZOFFSETTO:+0200
TZNAME:CEST
DTSTART:20260329T010000
END:DAYLIGHT
BEGIN:STANDARD
TZOFFSETFROM:+0200
TZOFFSETTO:+0100
TZNAME:CET
DTSTART:20261025T010000
END:STANDARD
END:VTIMEZONE
BEGIN:VEVENT
DTSTART;TZID=Europe/Paris:20250205T090000
DTEND;TZID=Europe/Paris:20250206T170000
DTSTAMP:20260423T180318
CREATED:20241118T100426Z
LAST-MODIFIED:20241118T100344Z
UID:404060-1738746000-1738861200@www.frp2i.fr
SUMMARY:IT Partners 2025
DESCRIPTION:You must be Connecté to view the content.
URL:https://www.frp2i.fr/event/it-partners-2025/
LOCATION:Paris La Défense Arena\, Paris La Défense Arena\, PARIS\, France
CATEGORIES:Salon
ATTACH;FMTTYPE=image/png:https://www.frp2i.fr/wp-content/uploads/2024/09/Logo_IT-PARTNERS_seul.png
END:VEVENT
BEGIN:VEVENT
DTSTART;TZID=Europe/Paris:20250207T110000
DTEND;TZID=Europe/Paris:20250207T120000
DTSTAMP:20260423T180318
CREATED:20250115T101415Z
LAST-MODIFIED:20250115T102052Z
UID:404753-1738926000-1738929600@www.frp2i.fr
SUMMARY:D-LINK: Série Smart Pro : le couteau suisse des réseaux pour les PME/PMI et ETI
DESCRIPTION:You must be Connecté to view the content.
URL:https://www.frp2i.fr/event/d-link-serie-smart-pro-le-couteau-suisse-des-reseaux-pour-les-pme-pmi-et-eti/
CATEGORIES:Webinaire
ATTACH;FMTTYPE=image/jpeg:https://www.frp2i.fr/wp-content/uploads/2019/04/logos-D-Link.jpg
END:VEVENT
BEGIN:VEVENT
DTSTART;TZID=Europe/Paris:20250211T100000
DTEND;TZID=Europe/Paris:20250211T120000
DTSTAMP:20260423T180318
CREATED:20241220T110036Z
LAST-MODIFIED:20250206T110343Z
UID:404667-1739268000-1739275200@www.frp2i.fr
SUMMARY:Formation Dirigeants Module 3 - 11 février 2025
DESCRIPTION:You must be Connecté to view the content.
URL:https://www.frp2i.fr/event/formation-dirigeants-module-3-11-fevrier-2025/
CATEGORIES:Formation
ATTACH;FMTTYPE=image/jpeg:https://www.frp2i.fr/wp-content/uploads/2024/10/jpglogocolorlarge.jpg
END:VEVENT
BEGIN:VEVENT
DTSTART;TZID=Europe/Paris:20250211T100000
DTEND;TZID=Europe/Paris:20250211T120000
DTSTAMP:20260423T180318
CREATED:20250206T105943Z
LAST-MODIFIED:20250206T110512Z
UID:404880-1739268000-1739275200@www.frp2i.fr
SUMMARY:Formation Dirigeants Module 2-3 du 11 février 2025
DESCRIPTION:You must be Connecté to view the content.
URL:https://www.frp2i.fr/event/formation-dirigeants-module-2-3-du-11-fevrier-2025/
CATEGORIES:Webinaire,Formation
ATTACH;FMTTYPE=image/jpeg:https://www.frp2i.fr/wp-content/uploads/2024/10/jpglogocolorlarge.jpg
END:VEVENT
BEGIN:VEVENT
DTSTART;TZID=Europe/Paris:20250227T123000
DTEND;TZID=Europe/Paris:20250227T140000
DTSTAMP:20260423T180318
CREATED:20250218T083322Z
LAST-MODIFIED:20250218T084746Z
UID:404963-1740659400-1740664800@www.frp2i.fr
SUMMARY:Réunion publique 'Le C.A. à votre écoute" le 27/02/2025
DESCRIPTION:You must be Connecté to view the content.
URL:https://www.frp2i.fr/event/reunion-publique-le-c-a-a-votre-ecoute-le-27-02-2025/
CATEGORIES:Réunion,Evènement FRP2i
END:VEVENT
END:VCALENDAR