BEGIN:VCALENDAR
VERSION:2.0
PRODID:-//FRP2i - ECPv6.15.20//NONSGML v1.0//EN
CALSCALE:GREGORIAN
METHOD:PUBLISH
X-WR-CALNAME:FRP2i
X-ORIGINAL-URL:https://www.frp2i.fr
X-WR-CALDESC:Évènements pour FRP2i
REFRESH-INTERVAL;VALUE=DURATION:PT1H
X-Robots-Tag:noindex
X-PUBLISHED-TTL:PT1H
BEGIN:VTIMEZONE
TZID:Europe/Paris
BEGIN:DAYLIGHT
TZOFFSETFROM:+0100
TZOFFSETTO:+0200
TZNAME:CEST
DTSTART:20230326T010000
END:DAYLIGHT
BEGIN:STANDARD
TZOFFSETFROM:+0200
TZOFFSETTO:+0100
TZNAME:CET
DTSTART:20231029T010000
END:STANDARD
BEGIN:DAYLIGHT
TZOFFSETFROM:+0100
TZOFFSETTO:+0200
TZNAME:CEST
DTSTART:20240331T010000
END:DAYLIGHT
BEGIN:STANDARD
TZOFFSETFROM:+0200
TZOFFSETTO:+0100
TZNAME:CET
DTSTART:20241027T010000
END:STANDARD
BEGIN:DAYLIGHT
TZOFFSETFROM:+0100
TZOFFSETTO:+0200
TZNAME:CEST
DTSTART:20250330T010000
END:DAYLIGHT
BEGIN:STANDARD
TZOFFSETFROM:+0200
TZOFFSETTO:+0100
TZNAME:CET
DTSTART:20251026T010000
END:STANDARD
END:VTIMEZONE
BEGIN:VEVENT
DTSTART;TZID=Europe/Paris:20241203T103000
DTEND;TZID=Europe/Paris:20241203T110000
DTSTAMP:20260423T221449
CREATED:20241126T091633Z
LAST-MODIFIED:20241126T091633Z
UID:404578-1733221800-1733223600@www.frp2i.fr
SUMMARY:Nouveau : webinar les fonctionnalités essentielles d'Xvantage
DESCRIPTION:You must be Connecté to view the content.
URL:https://www.frp2i.fr/event/nouveau-webinar-les-fonctionnalites-essentielles-dxvantage/
CATEGORIES:Webinaire
ATTACH;FMTTYPE=image/png:https://www.frp2i.fr/wp-content/uploads/2023/07/Ingram_micro_logo.png
END:VEVENT
BEGIN:VEVENT
DTSTART;TZID=Europe/Paris:20241205T090000
DTEND;TZID=Europe/Paris:20241205T173000
DTSTAMP:20260423T221449
CREATED:20240905T133503Z
LAST-MODIFIED:20241003T174439Z
UID:404031-1733389200-1733419800@www.frp2i.fr
SUMMARY:Formations AV Barco ClickShare Eysines !
DESCRIPTION:You must be Connecté to view the content.
URL:https://www.frp2i.fr/event/formations-av-barco-clickshare-eysines/
LOCATION:Eysines\, 18 avenue de la forêt\, Eysines\, 33320\, France
CATEGORIES:Formation
ATTACH;FMTTYPE=image/png:https://www.frp2i.fr/wp-content/uploads/2023/09/EXERTIS.png
END:VEVENT
BEGIN:VEVENT
DTSTART;TZID=Europe/Paris:20241205T133000
DTEND;TZID=Europe/Paris:20241205T200000
DTSTAMP:20260423T221449
CREATED:20240905T135211Z
LAST-MODIFIED:20241007T092337Z
UID:404050-1733405400-1733428800@www.frp2i.fr
SUMMARY:Mini Salons AV Barco ClickShare Eysines !
DESCRIPTION:You must be Connecté to view the content.
URL:https://www.frp2i.fr/event/mini-salons-av-barco-clickshare-eysines/
LOCATION:Eysines\, 18 avenue de la forêt\, Eysines\, 33320\, France
CATEGORIES:Partenariats
ATTACH;FMTTYPE=image/png:https://www.frp2i.fr/wp-content/uploads/2023/09/EXERTIS.png
END:VEVENT
BEGIN:VEVENT
DTSTART;TZID=Europe/Paris:20241206T110000
DTEND;TZID=Europe/Paris:20241206T120000
DTSTAMP:20260423T221449
CREATED:20241003T143122Z
LAST-MODIFIED:20241007T083536Z
UID:404243-1733482800-1733486400@www.frp2i.fr
SUMMARY:Explorez les nouvelles solutions de connectivité 4G et 5G de D-LINK et sa plateforme d'administration Cloud
DESCRIPTION:You must be Connecté to view the content.
URL:https://www.frp2i.fr/event/explorez-les-nouvelles-solutions-de-connectivite-4g-et-5g-de-d-link-et-sa-plateforme-dadministration-cloud/
CATEGORIES:Webinaire
ATTACH;FMTTYPE=image/jpeg:https://www.frp2i.fr/wp-content/uploads/2019/04/logos-D-Link.jpg
END:VEVENT
BEGIN:VEVENT
DTSTART;TZID=Europe/Paris:20241210T090000
DTEND;TZID=Europe/Paris:20241210T173000
DTSTAMP:20260423T221449
CREATED:20241003T162614Z
LAST-MODIFIED:20241007T082437Z
UID:404262-1733821200-1733851800@www.frp2i.fr
SUMMARY:Formation à distance - Mailstore Server et SPE
DESCRIPTION:You must be Connecté to view the content.
URL:https://www.frp2i.fr/event/formation-a-distance-mailstore-server-et-spe/
CATEGORIES:Formation
ATTACH;FMTTYPE=image/png:https://www.frp2i.fr/wp-content/uploads/2024/02/MailStore_Logo_RGB.png
END:VEVENT
BEGIN:VEVENT
DTSTART;TZID=Europe/Paris:20241210T100000
DTEND;TZID=Europe/Paris:20241210T110000
DTSTAMP:20260423T221449
CREATED:20241114T140945Z
LAST-MODIFIED:20241114T142015Z
UID:404528-1733824800-1733828400@www.frp2i.fr
SUMMARY:#PREVENTION FIRST | WEBINAIRE ESET : Les scanners de vulnérabilité et la gestion des correctifs
DESCRIPTION:You must be Connecté to view the content.
URL:https://www.frp2i.fr/event/prevention-first-webinaire-eset-les-scanners-de-vulnerabilite-et-la-gestion-des-correctifs-2/
CATEGORIES:Webinaire
ATTACH;FMTTYPE=image/png:https://www.frp2i.fr/wp-content/uploads/2019/04/ESET_logo_DS_PP_centered_color_RGB_large.png
END:VEVENT
BEGIN:VEVENT
DTSTART;TZID=Europe/Paris:20241212T090000
DTEND;TZID=Europe/Paris:20241212T150000
DTSTAMP:20260423T221449
CREATED:20241031T193848Z
LAST-MODIFIED:20241031T193938Z
UID:404454-1733994000-1734015600@www.frp2i.fr
SUMMARY:Roadshow ALSO : Rendez-vous à Nantes le 12 décembre !
DESCRIPTION:You must be Connecté to view the content.
URL:https://www.frp2i.fr/event/roadshow-also-rendez-vous-a-nantes-le-12-decembre/
LOCATION:Little Atlantic Brewery\, 23 boulevard de Chantenay\, Nantes\, 44100\, France
CATEGORIES:Salon
ATTACH;FMTTYPE=image/jpeg:https://www.frp2i.fr/wp-content/uploads/2019/04/logos-also.jpg
END:VEVENT
END:VCALENDAR